BEGIN:VCALENDAR
VERSION:2.0
PRODID:-//wp-events-plugin.com//7.2.3.1//EN
TZID:America/New_York
X-WR-TIMEZONE:America/New_York
BEGIN:VEVENT
UID:260@bethabrahamdayton.org
DTSTART;TZID=America/New_York:20240325T120000
DTEND;TZID=America/New_York:20240325T130000
DTSTAMP:20240306T190358Z
URL:https://bethabrahamdayton.org/events/book-talk-with-marco-zoppas-bob-k
 nows-conversations-with-dylanologists/
SUMMARY:Book Talk with Marco Zoppas - "Bob Knows: Conversations with Dylano
 logists"
DESCRIPTION:Italian author Marco Zoppas will be at Beth Abraham to discuss 
 his new book\, "Bob Knows: Conversations with Dylanologists" with Rav Aubr
 ey Glazer. It contains original interviews with 13 leading Dylanologists a
 bout why Bob Dylan has remained such a compelling and important artist to 
 the present day. Zoppas is coming to only three locations in the US and ha
 s chosen Beth Abraham as one of them. The event will be live as well as on
  Zoom. Please register below to attend the free event. A confirmation emai
 l will be sent within 72 hours. Please indicate whether you plan to attend
  in person or via Zoom.\n\n[gravityform id="16" title="true" description="
 true"]\n\n&nbsp\;
CATEGORIES:Special Event
LOCATION:Beth Abraham Synagogue\, 305 Sugar Camp Circle\, Dayton\, Ohio\, 4
 5409\, United States
X-APPLE-STRUCTURED-LOCATION;VALUE=URI;X-ADDRESS=305 Sugar Camp Circle\, Day
 ton\, Ohio\, 45409\, United States;X-APPLE-RADIUS=100;X-TITLE=Beth Abraham
  Synagogue:geo:0,0
END:VEVENT
BEGIN:VTIMEZONE
TZID:America/New_York
X-LIC-LOCATION:America/New_York
BEGIN:DAYLIGHT
DTSTART:20240310T030000
TZOFFSETFROM:-0500
TZOFFSETTO:-0400
TZNAME:EDT
END:DAYLIGHT
END:VTIMEZONE
END:VCALENDAR