BEGIN:VCALENDAR
VERSION:2.0
PRODID:-//wp-events-plugin.com//7.2.3.1//EN
TZID:America/New_York
X-WR-TIMEZONE:America/New_York
BEGIN:VEVENT
UID:265@bethabrahamdayton.org
DTSTART;TZID=America/New_York:20240408T123000
DTEND;TZID=America/New_York:20240408T160000
DTSTAMP:20240307T184927Z
URL:https://bethabrahamdayton.org/events/eclipse-spectacular/
SUMMARY:Eclipse Spectacular!
DESCRIPTION:Join Beth Abraham and Northern Hills Synagogues’ Men’s Club
 s for indoor lunch and outdoor viewing of this upcoming rare total daytime
  eclipse.&nbsp\; Open to all members of both synagogues.\n\nINCLUDES - \n\
 n 	Deli - Make Your Own Sandwich and Drink (Corned Beef/Pastrami/Turkey/Sa
 lads/Dessert)\n 	Vegan sandwich/salad available by special request\n 	Lunc
 heon talk about eclipse by Dr Jack Bernstein\n\nCost - $13 per person&nbsp
 \; (includes $1 for viewing glasses). Eclipse Free!\n\nRSVP FOR LUNCH IS R
 EQUIRED – EMAIL (bas@bethabrahamdayton.org) or CALL (937-293-9520) THE O
 FFICE NO LATER THAN APRIL 1ST\n\nECLIPSE VIEWING FROM BETH ABRAHAM PARKING
  LOT – BRING YOUR OWN CHAIR!\n\n&nbsp\;
CATEGORIES:Special Event
END:VEVENT
BEGIN:VTIMEZONE
TZID:America/New_York
X-LIC-LOCATION:America/New_York
BEGIN:DAYLIGHT
DTSTART:20240310T030000
TZOFFSETFROM:-0500
TZOFFSETTO:-0400
TZNAME:EDT
END:DAYLIGHT
END:VTIMEZONE
END:VCALENDAR