BEGIN:VCALENDAR
VERSION:2.0
PRODID:-//wp-events-plugin.com//7.2.3.1//EN
TZID:America/New_York
X-WR-TIMEZONE:America/New_York
BEGIN:VEVENT
UID:365@bethabrahamdayton.org
DTSTART;TZID=America/New_York:20260407T100000
DTEND;TZID=America/New_York:20260428T110000
DTSTAMP:20260401T171901Z
URL:https://bethabrahamdayton.org/events/from-narrowness-to-renewing-light
 /
SUMMARY:From Narrowness to Renewing Light
DESCRIPTION:From Narrowness to Renewing Light:\nA Spring Journey Through th
 e Healing Psalms\n\nAs the world thaws and the first green shoots push the
 ir way through the soil\, our tradition invites us into its own season of 
 renewal. This is a journey for anyone seeking steadiness\, renewal\, or a 
 way to feel the season’s promise from the inside out—a pilgrimage from
  Egypt’s tight places toward the open\, listening heart of Sinai. From t
 he liberation of Passover to the slow\, attentive counting of the Omer\, w
 e walk a path that widens the heart day by day\, preparing us for the mome
 nt of deep receptivity at Sinai. Along this springtime arc\, when the soul
  is already leaning toward possibility\, we will turn to the healing psalm
 s cherished by Rebbe Nachman—texts he understood as companions for those
  navigating anxiety\, dislocation\, and the shadowed valleys of the spirit
 .\n\nAcross four Tuesdays sessions\, April 7–28\, we will explore how th
 ese psalms become a kind of\ninner choreography: moving us from constricti
 on toward breath\, from fragmentation toward\ncoherence\, from despair tow
 ard the quiet courage to begin again. Each week will weave close\nreading\
 , spiritual reflection\, and gentle practice\, allowing the ancient words 
 to meet the tender\nplaces of our own moment.\n\nCall or email the office 
 to register.
ATTACH;FMTTYPE=image/jpeg:https://bethabrahamdayton.org/wp-content/uploads
 /2026/04/April-2026-Class.png
END:VEVENT
BEGIN:VTIMEZONE
TZID:America/New_York
X-LIC-LOCATION:America/New_York
BEGIN:DAYLIGHT
DTSTART:20260308T030000
TZOFFSETFROM:-0500
TZOFFSETTO:-0400
TZNAME:EDT
END:DAYLIGHT
END:VTIMEZONE
END:VCALENDAR