BEGIN:VCALENDAR
VERSION:2.0
PRODID:-//wp-events-plugin.com//7.2.3.1//EN
TZID:America/New_York
X-WR-TIMEZONE:America/New_York
BEGIN:VEVENT
UID:371@bethabrahamdayton.org
DTSTART;TZID=America/New_York:20260504T180000
DTEND;TZID=America/New_York:20260504T190000
DTSTAMP:20260424T153540Z
URL:https://bethabrahamdayton.org/events/lag-bomer/
SUMMARY:Lag B’Omer
DESCRIPTION:May the Fourth Be With You!\n\nMonday May 4th\n6:00 pm\n\nREGIS
 TER TO RECIEVE THE ZOOM LINK: https://us02web.zoom.us/meeting/register/wuT
 qgfqBSt-FYyd7KlxQjA\n\nBYOS:\nBring your own smores!
ATTACH;FMTTYPE=image/jpeg:https://bethabrahamdayton.org/wp-content/uploads
 /2026/04/Online-Lag-Bomer-3.png
END:VEVENT
BEGIN:VTIMEZONE
TZID:America/New_York
X-LIC-LOCATION:America/New_York
BEGIN:DAYLIGHT
DTSTART:20260308T030000
TZOFFSETFROM:-0500
TZOFFSETTO:-0400
TZNAME:EDT
END:DAYLIGHT
END:VTIMEZONE
END:VCALENDAR