BEGIN:VCALENDAR
VERSION:2.0
PRODID:-//wp-events-plugin.com//7.2.3.1//EN
TZID:America/New_York
X-WR-TIMEZONE:America/New_York
BEGIN:VEVENT
UID:22@bethabrahamdayton.org
DTSTART;TZID=America/New_York:20200309T173000
DTEND;TZID=America/New_York:20200309T200000
DTSTAMP:20200303T190430Z
URL:https://bethabrahamdayton.org/events/purim-celebration-oy-klahoma/
SUMMARY:Purim Celebration - "Oy-klahoma!"
DESCRIPTION:\n\nPurim is coming Monday\, March 9th and this year’s theme 
 is Oy-klahoma!&nbsp\; We will start the celebration with a carnival and bo
 x dinner just like in “Oklahoma!” which featured a Box Social where lu
 nch baskets were auctioned off. Dinner includes a choice of tuna\, egg sal
 ad or veggie wraps\, with sides\, chips and of course\, hamantaschen for d
 essert\, all for $12 (children's 1/2 wrap available for ages 12 and under)
 . Following dinner\, we’ll have a costume parade to lead us upstairs to 
 the sanctuary where the festivities continue.\n\n5:30-6:30 Carnival and Di
 nner\n\n6:45 Costume Parade\, followed by the combined service\, Megillah 
 reading and shpiel featuring your favorite Beth Abraham players!\n\nReserv
 ations for dinner are closed\, but you still can attend the carnival\, cos
 tume parade\, combined service/Megillah reading/shpiel for free with no re
 servation!\n\n“Oh\, What a Beautiful Evening” it will be!
CATEGORIES:Special Event
LOCATION:Beth Abraham Synagogue\, 305 Sugar Camp Circle\, Dayton\, Ohio\, 4
 5409\, United States
X-APPLE-STRUCTURED-LOCATION;VALUE=URI;X-ADDRESS=305 Sugar Camp Circle\, Day
 ton\, Ohio\, 45409\, United States;X-APPLE-RADIUS=100;X-TITLE=Beth Abraham
  Synagogue:geo:0,0
END:VEVENT
BEGIN:VTIMEZONE
TZID:America/New_York
X-LIC-LOCATION:America/New_York
BEGIN:DAYLIGHT
DTSTART:20200308T030000
TZOFFSETFROM:-0500
TZOFFSETTO:-0400
TZNAME:EDT
END:DAYLIGHT
END:VTIMEZONE
END:VCALENDAR