BEGIN:VCALENDAR
VERSION:2.0
PRODID:-//wp-events-plugin.com//7.2.3.1//EN
TZID:America/New_York
X-WR-TIMEZONE:America/New_York
BEGIN:VEVENT
UID:258@bethabrahamdayton.org
DTSTART;TZID=America/New_York:20240225T094500
DTEND;TZID=America/New_York:20240225T113000
DTSTAMP:20240213T160128Z
URL:https://bethabrahamdayton.org/events/rick-pinsky-sunday-brunch-speaker
 -series-7/
SUMMARY:Rick Pinsky Sunday Brunch Speaker Series
DESCRIPTION:Marshall Weiss will discuss DeMille's Silent Ten Commandments a
 t 100.&nbsp\; This brunch is co-sponsored with Temple Israel as part of th
 eir Ryterband Lecture Series\, in partnership with Miami Valley Jewish Gen
 ealogy &amp\; History\, and will take place at Temple Israel. This brunch 
 begins at 9:45 am and the cost is $7 per person.
ATTACH;FMTTYPE=image/jpeg:https://bethabrahamdayton.org/wp-content/uploads
 /2022/12/bagel-w-lox.png
CATEGORIES:Men's Club Brunch
LOCATION:Temple Israel\, 130 Riverside Dr.\, Dayton\, Ohio\, 45405\, United
  States
X-APPLE-STRUCTURED-LOCATION;VALUE=URI;X-ADDRESS=130 Riverside Dr.\, Dayton\
 , Ohio\, 45405\, United States;X-APPLE-RADIUS=100;X-TITLE=Temple Israel:ge
 o:0,0
END:VEVENT
BEGIN:VTIMEZONE
TZID:America/New_York
X-LIC-LOCATION:America/New_York
BEGIN:STANDARD
DTSTART:20231105T010000
TZOFFSETFROM:-0400
TZOFFSETTO:-0500
TZNAME:EST
END:STANDARD
END:VTIMEZONE
END:VCALENDAR