BEGIN:VCALENDAR
VERSION:2.0
PRODID:-//wp-events-plugin.com//7.2.3.1//EN
TZID:America/New_York
X-WR-TIMEZONE:America/New_York
BEGIN:VEVENT
UID:370@bethabrahamdayton.org
DTSTART;TZID=America/New_York:20260521T180000
DTEND;TZID=America/New_York:20260521T200000
DTSTAMP:20260424T152313Z
URL:https://bethabrahamdayton.org/events/shavuot-let-there-be-letters/
SUMMARY:Shavuot: Let There Be Letters
DESCRIPTION:A Night of Shavuot Learning on Revelation and the Art of Creati
 on\n\nJoin us for a Tikkun that treats the world as a living text. We’ll
  wander through the generative alphabet of Seder Yetzirah\, experiment wit
 h creative practices\, and open ourselves to the quiet\, surprising ways r
 evelation still arrives.\n\nThursday\, May 21\n6:00 - 8:00 pm\n\nSugar Cam
 p Campus\n\n 	Dairy Dinner &amp\; Dessert\n 	Learning Sessions with Rav Au
 brey &amp\; Dr. Elyssa Wortzman\n\nEmail: BAS@bethabrahamdayton.org \n\nCa
 ll: 937-293-9520\n\n To RSVP by May 18\n\nFor those who participated in th
 e Omer Challenge\, join us at Graeter’s at 5pm.
ATTACH;FMTTYPE=image/jpeg:https://bethabrahamdayton.org/wp-content/uploads
 /2026/04/Shavuot-2025-Instagram-Post-45-1.png
END:VEVENT
BEGIN:VTIMEZONE
TZID:America/New_York
X-LIC-LOCATION:America/New_York
BEGIN:DAYLIGHT
DTSTART:20260308T030000
TZOFFSETFROM:-0500
TZOFFSETTO:-0400
TZNAME:EDT
END:DAYLIGHT
END:VTIMEZONE
END:VCALENDAR